BEGIN:VCALENDAR
VERSION:2.0
PRODID:-//Vision Bermuda - ECPv6.15.18//NONSGML v1.0//EN
CALSCALE:GREGORIAN
METHOD:PUBLISH
X-WR-CALNAME:Vision Bermuda
X-ORIGINAL-URL:https://visionbermuda.bm
X-WR-CALDESC:Events for Vision Bermuda
REFRESH-INTERVAL;VALUE=DURATION:PT1H
X-Robots-Tag:noindex
X-PUBLISHED-TTL:PT1H
BEGIN:VTIMEZONE
TZID:UTC
BEGIN:STANDARD
TZOFFSETFROM:+0000
TZOFFSETTO:+0000
TZNAME:UTC
DTSTART:20230101T000000
END:STANDARD
END:VTIMEZONE
BEGIN:VEVENT
DTSTART;TZID=UTC:20240918T100000
DTEND;TZID=UTC:20240918T110000
DTSTAMP:20260419T123607
CREATED:20240619T194235Z
LAST-MODIFIED:20240619T194235Z
UID:430-1726653600-1726657200@visionbermuda.bm
SUMMARY:Exercise Class with Paul Lambert
DESCRIPTION:
URL:https://visionbermuda.bm/event/exercise-class-with-paul-lambert-13/
END:VEVENT
BEGIN:VEVENT
DTSTART;TZID=UTC:20240918T113000
DTEND;TZID=UTC:20240918T123000
DTSTAMP:20260419T123607
CREATED:20240628T181243Z
LAST-MODIFIED:20240628T181243Z
UID:1033-1726659000-1726662600@visionbermuda.bm
SUMMARY:Social Group
DESCRIPTION:
URL:https://visionbermuda.bm/event/social-group-12/
END:VEVENT
END:VCALENDAR