BEGIN:VCALENDAR
VERSION:2.0
PRODID:-//Vision Bermuda - ECPv6.15.18//NONSGML v1.0//EN
CALSCALE:GREGORIAN
METHOD:PUBLISH
X-ORIGINAL-URL:https://visionbermuda.bm
X-WR-CALDESC:Events for Vision Bermuda
REFRESH-INTERVAL;VALUE=DURATION:PT1H
X-Robots-Tag:noindex
X-PUBLISHED-TTL:PT1H
BEGIN:VTIMEZONE
TZID:UTC
BEGIN:STANDARD
TZOFFSETFROM:+0000
TZOFFSETTO:+0000
TZNAME:UTC
DTSTART:20230101T000000
END:STANDARD
END:VTIMEZONE
BEGIN:VEVENT
DTSTART;TZID=UTC:20241106T100000
DTEND;TZID=UTC:20241106T110000
DTSTAMP:20260420T060112
CREATED:20241101T190321Z
LAST-MODIFIED:20241101T194333Z
UID:1702-1730887200-1730890800@visionbermuda.bm
SUMMARY:Movement Therapy with Paul Lambert
DESCRIPTION:
URL:https://visionbermuda.bm/event/movement-therapy-4/
END:VEVENT
BEGIN:VEVENT
DTSTART;TZID=UTC:20241106T110000
DTEND;TZID=UTC:20241106T113000
DTSTAMP:20260420T060112
CREATED:20240628T181724Z
LAST-MODIFIED:20241101T190736Z
UID:1047-1730890800-1730892600@visionbermuda.bm
SUMMARY:Social Group
DESCRIPTION:
URL:https://visionbermuda.bm/event/social-group-19/
END:VEVENT
BEGIN:VEVENT
DTSTART;TZID=UTC:20241106T130000
DTEND;TZID=UTC:20241106T153000
DTSTAMP:20260420T060112
CREATED:20240619T201320Z
LAST-MODIFIED:20241104T214017Z
UID:494-1730898000-1730907000@visionbermuda.bm
SUMMARY:Let's Cook - Group 1 (Contact us to be added to the Waitlist!)
DESCRIPTION:
URL:https://visionbermuda.bm/event/lets-cook-2-7/
END:VEVENT
END:VCALENDAR