BEGIN:VCALENDAR
VERSION:2.0
PRODID:-//Vision Bermuda - ECPv6.15.18//NONSGML v1.0//EN
CALSCALE:GREGORIAN
METHOD:PUBLISH
X-WR-CALNAME:Vision Bermuda
X-ORIGINAL-URL:https://visionbermuda.bm
X-WR-CALDESC:Events for Vision Bermuda
REFRESH-INTERVAL;VALUE=DURATION:PT1H
X-Robots-Tag:noindex
X-PUBLISHED-TTL:PT1H
BEGIN:VTIMEZONE
TZID:UTC
BEGIN:STANDARD
TZOFFSETFROM:+0000
TZOFFSETTO:+0000
TZNAME:UTC
DTSTART:20230101T000000
END:STANDARD
END:VTIMEZONE
BEGIN:VEVENT
DTSTART;TZID=UTC:20241118T100000
DTEND;TZID=UTC:20241118T110000
DTSTAMP:20260424T014007
CREATED:20241101T190241Z
LAST-MODIFIED:20241101T194410Z
UID:1698-1731924000-1731927600@visionbermuda.bm
SUMMARY:Movement Therapy with Paul Lambert
DESCRIPTION:
URL:https://visionbermuda.bm/event/movement-therapy-2/
END:VEVENT
BEGIN:VEVENT
DTSTART;TZID=UTC:20241118T110000
DTEND;TZID=UTC:20241118T113000
DTSTAMP:20260424T014007
CREATED:20241101T191426Z
LAST-MODIFIED:20241101T191426Z
UID:1715-1731927600-1731929400@visionbermuda.bm
SUMMARY:Social Group
DESCRIPTION:
URL:https://visionbermuda.bm/event/social-group-27/
END:VEVENT
BEGIN:VEVENT
DTSTART;TZID=UTC:20241118T140000
DTEND;TZID=UTC:20241118T160000
DTSTAMP:20260424T014007
CREATED:20241101T185037Z
LAST-MODIFIED:20241101T185037Z
UID:1678-1731938400-1731945600@visionbermuda.bm
SUMMARY:Walking Group - Botanical Gardens
DESCRIPTION:
URL:https://visionbermuda.bm/event/walking-group-botanical-gardens-3/
END:VEVENT
END:VCALENDAR