BEGIN:VCALENDAR
VERSION:2.0
PRODID:-//Vision Bermuda - ECPv6.15.18//NONSGML v1.0//EN
CALSCALE:GREGORIAN
METHOD:PUBLISH
X-WR-CALNAME:Vision Bermuda
X-ORIGINAL-URL:https://visionbermuda.bm
X-WR-CALDESC:Events for Vision Bermuda
REFRESH-INTERVAL;VALUE=DURATION:PT1H
X-Robots-Tag:noindex
X-PUBLISHED-TTL:PT1H
BEGIN:VTIMEZONE
TZID:UTC
BEGIN:STANDARD
TZOFFSETFROM:+0000
TZOFFSETTO:+0000
TZNAME:UTC
DTSTART:20230101T000000
END:STANDARD
END:VTIMEZONE
BEGIN:VEVENT
DTSTART;TZID=UTC:20241204T100000
DTEND;TZID=UTC:20241204T110000
DTSTAMP:20260419T132726
CREATED:20241101T191637Z
LAST-MODIFIED:20241101T194135Z
UID:1725-1733306400-1733310000@visionbermuda.bm
SUMMARY:Movement Therapy with Paul Lambert
DESCRIPTION:
URL:https://visionbermuda.bm/event/movement-therapy-11/
END:VEVENT
BEGIN:VEVENT
DTSTART;TZID=UTC:20241204T110000
DTEND;TZID=UTC:20241204T113000
DTSTAMP:20260419T132726
CREATED:20240628T181926Z
LAST-MODIFIED:20241101T192031Z
UID:1055-1733310000-1733311800@visionbermuda.bm
SUMMARY:Social Group
DESCRIPTION:
URL:https://visionbermuda.bm/event/social-group-23/
END:VEVENT
BEGIN:VEVENT
DTSTART;TZID=UTC:20241204T130000
DTEND;TZID=UTC:20241204T153000
DTSTAMP:20260419T132726
CREATED:20241104T213659Z
LAST-MODIFIED:20241104T214202Z
UID:1791-1733317200-1733326200@visionbermuda.bm
SUMMARY:Let's Cook - Group 1 (Contact us to be added to the Waitlist!)
DESCRIPTION:
URL:https://visionbermuda.bm/event/lets-cook-group-1/
END:VEVENT
END:VCALENDAR