BEGIN:VCALENDAR
VERSION:2.0
PRODID:-//Vision Bermuda - ECPv6.15.18//NONSGML v1.0//EN
CALSCALE:GREGORIAN
METHOD:PUBLISH
X-ORIGINAL-URL:https://visionbermuda.bm
X-WR-CALDESC:Events for Vision Bermuda
REFRESH-INTERVAL;VALUE=DURATION:PT1H
X-Robots-Tag:noindex
X-PUBLISHED-TTL:PT1H
BEGIN:VTIMEZONE
TZID:UTC
BEGIN:STANDARD
TZOFFSETFROM:+0000
TZOFFSETTO:+0000
TZNAME:UTC
DTSTART:20230101T000000
END:STANDARD
END:VTIMEZONE
BEGIN:VEVENT
DTSTART;TZID=UTC:20241216T100000
DTEND;TZID=UTC:20241216T110000
DTSTAMP:20260420T013241
CREATED:20241101T191622Z
LAST-MODIFIED:20241101T194152Z
UID:1723-1734343200-1734346800@visionbermuda.bm
SUMMARY:Movement Therapy with Paul Lambert
DESCRIPTION:
URL:https://visionbermuda.bm/event/movement-therapy-10/
END:VEVENT
BEGIN:VEVENT
DTSTART;TZID=UTC:20241216T110000
DTEND;TZID=UTC:20241216T113000
DTSTAMP:20260420T013241
CREATED:20241101T191940Z
LAST-MODIFIED:20241101T191940Z
UID:1735-1734346800-1734348600@visionbermuda.bm
SUMMARY:Social Group
DESCRIPTION:
URL:https://visionbermuda.bm/event/social-group-31/
END:VEVENT
BEGIN:VEVENT
DTSTART;TZID=UTC:20241216T140000
DTEND;TZID=UTC:20241216T160000
DTSTAMP:20260420T013241
CREATED:20241101T185257Z
LAST-MODIFIED:20241101T185257Z
UID:1686-1734357600-1734364800@visionbermuda.bm
SUMMARY:Walking Group - Botanical Gardens
DESCRIPTION:
URL:https://visionbermuda.bm/event/walking-group-botanical-gardens-7/
END:VEVENT
END:VCALENDAR