BEGIN:VCALENDAR
VERSION:2.0
PRODID:-//Vision Bermuda - ECPv6.15.18//NONSGML v1.0//EN
CALSCALE:GREGORIAN
METHOD:PUBLISH
X-ORIGINAL-URL:https://visionbermuda.bm
X-WR-CALDESC:Events for Vision Bermuda
REFRESH-INTERVAL;VALUE=DURATION:PT1H
X-Robots-Tag:noindex
X-PUBLISHED-TTL:PT1H
BEGIN:VTIMEZONE
TZID:UTC
BEGIN:STANDARD
TZOFFSETFROM:+0000
TZOFFSETTO:+0000
TZNAME:UTC
DTSTART:20230101T000000
END:STANDARD
END:VTIMEZONE
BEGIN:VEVENT
DTSTART;TZID=UTC:20241218T100000
DTEND;TZID=UTC:20241218T110000
DTSTAMP:20260420T044807
CREATED:20241101T191810Z
LAST-MODIFIED:20241101T193951Z
UID:1729-1734516000-1734519600@visionbermuda.bm
SUMMARY:Movement Therapy with Paul Lambert
DESCRIPTION:
URL:https://visionbermuda.bm/event/movement-therapy-13/
END:VEVENT
BEGIN:VEVENT
DTSTART;TZID=UTC:20241218T110000
DTEND;TZID=UTC:20241218T113000
DTSTAMP:20260420T044807
CREATED:20240628T182011Z
LAST-MODIFIED:20241101T192125Z
UID:1059-1734519600-1734521400@visionbermuda.bm
SUMMARY:Social Group
DESCRIPTION:
URL:https://visionbermuda.bm/event/social-group-25/
END:VEVENT
END:VCALENDAR