BEGIN:VCALENDAR
VERSION:2.0
PRODID:-//Vision Bermuda - ECPv6.15.18//NONSGML v1.0//EN
CALSCALE:GREGORIAN
METHOD:PUBLISH
X-WR-CALNAME:Vision Bermuda
X-ORIGINAL-URL:https://visionbermuda.bm
X-WR-CALDESC:Events for Vision Bermuda
REFRESH-INTERVAL;VALUE=DURATION:PT1H
X-Robots-Tag:noindex
X-PUBLISHED-TTL:PT1H
BEGIN:VTIMEZONE
TZID:UTC
BEGIN:STANDARD
TZOFFSETFROM:+0000
TZOFFSETTO:+0000
TZNAME:UTC
DTSTART:20240101T000000
END:STANDARD
END:VTIMEZONE
BEGIN:VEVENT
DTSTART;TZID=UTC:20250108T100000
DTEND;TZID=UTC:20250108T110000
DTSTAMP:20260422T083631
CREATED:20241213T140529Z
LAST-MODIFIED:20241213T140529Z
UID:1999-1736330400-1736334000@visionbermuda.bm
SUMMARY:Movement Therapy with Paul Lambert
DESCRIPTION:
URL:https://visionbermuda.bm/event/movement-therapy-with-paul-lambert-13/
END:VEVENT
BEGIN:VEVENT
DTSTART;TZID=UTC:20250108T110000
DTEND;TZID=UTC:20250108T113000
DTSTAMP:20260422T083631
CREATED:20241213T141617Z
LAST-MODIFIED:20241213T141617Z
UID:2035-1736334000-1736335800@visionbermuda.bm
SUMMARY:Social Group
DESCRIPTION:
URL:https://visionbermuda.bm/event/social-group-32/
END:VEVENT
BEGIN:VEVENT
DTSTART;TZID=UTC:20250108T133000
DTEND;TZID=UTC:20250108T150000
DTSTAMP:20260422T083631
CREATED:20241213T142848Z
LAST-MODIFIED:20241213T142953Z
UID:2093-1736343000-1736348400@visionbermuda.bm
SUMMARY:Tabletop Games Afternoon
DESCRIPTION:
URL:https://visionbermuda.bm/event/tabletop-games-afternoon-3/
END:VEVENT
END:VCALENDAR