BEGIN:VCALENDAR
VERSION:2.0
PRODID:-//Vision Bermuda - ECPv6.15.18//NONSGML v1.0//EN
CALSCALE:GREGORIAN
METHOD:PUBLISH
X-WR-CALNAME:Vision Bermuda
X-ORIGINAL-URL:https://visionbermuda.bm
X-WR-CALDESC:Events for Vision Bermuda
REFRESH-INTERVAL;VALUE=DURATION:PT1H
X-Robots-Tag:noindex
X-PUBLISHED-TTL:PT1H
BEGIN:VTIMEZONE
TZID:UTC
BEGIN:STANDARD
TZOFFSETFROM:+0000
TZOFFSETTO:+0000
TZNAME:UTC
DTSTART:20240101T000000
END:STANDARD
END:VTIMEZONE
BEGIN:VEVENT
DTSTART;TZID=UTC:20250123T093000
DTEND;TZID=UTC:20250123T113000
DTSTAMP:20260425T232933
CREATED:20250106T141111Z
LAST-MODIFIED:20250106T141111Z
UID:2209-1737624600-1737631800@visionbermuda.bm
SUMMARY:Keyboarding and Computers (Contact us to be added to the Waitlist)
DESCRIPTION:
URL:https://visionbermuda.bm/event/keyboarding-and-computers-contact-us-to-be-added-to-the-waitlist-5/
END:VEVENT
BEGIN:VEVENT
DTSTART;TZID=UTC:20250123T113000
DTEND;TZID=UTC:20250123T120000
DTSTAMP:20260425T232933
CREATED:20250106T143017Z
LAST-MODIFIED:20250106T143017Z
UID:2273-1737631800-1737633600@visionbermuda.bm
SUMMARY:Keyboarding and Computers social time
DESCRIPTION:
URL:https://visionbermuda.bm/event/keyboarding-and-computers-social-time-5/
END:VEVENT
BEGIN:VEVENT
DTSTART;TZID=UTC:20250123T133000
DTEND;TZID=UTC:20250123T153000
DTSTAMP:20260425T232933
CREATED:20241214T145158Z
LAST-MODIFIED:20241214T145158Z
UID:2126-1737639000-1737646200@visionbermuda.bm
SUMMARY:Garden Workshop
DESCRIPTION:
URL:https://visionbermuda.bm/event/garden-workshop-2/
END:VEVENT
END:VCALENDAR