BEGIN:VCALENDAR
VERSION:2.0
PRODID:-//Vision Bermuda - ECPv6.15.18//NONSGML v1.0//EN
CALSCALE:GREGORIAN
METHOD:PUBLISH
X-WR-CALNAME:Vision Bermuda
X-ORIGINAL-URL:https://visionbermuda.bm
X-WR-CALDESC:Events for Vision Bermuda
REFRESH-INTERVAL;VALUE=DURATION:PT1H
X-Robots-Tag:noindex
X-PUBLISHED-TTL:PT1H
BEGIN:VTIMEZONE
TZID:UTC
BEGIN:STANDARD
TZOFFSETFROM:+0000
TZOFFSETTO:+0000
TZNAME:UTC
DTSTART:20240101T000000
END:STANDARD
END:VTIMEZONE
BEGIN:VEVENT
DTSTART;TZID=UTC:20250305T100000
DTEND;TZID=UTC:20250305T110000
DTSTAMP:20260423T131910
CREATED:20241213T140812Z
LAST-MODIFIED:20241213T140812Z
UID:2015-1741168800-1741172400@visionbermuda.bm
SUMMARY:Movement Therapy with Paul Lambert
DESCRIPTION:
URL:https://visionbermuda.bm/event/movement-therapy-with-paul-lambert-21/
END:VEVENT
BEGIN:VEVENT
DTSTART;TZID=UTC:20250305T110000
DTEND;TZID=UTC:20250305T113000
DTSTAMP:20260423T131910
CREATED:20241213T142342Z
LAST-MODIFIED:20241213T142342Z
UID:2067-1741172400-1741174200@visionbermuda.bm
SUMMARY:Social Group
DESCRIPTION:
URL:https://visionbermuda.bm/event/social-group-48/
END:VEVENT
END:VCALENDAR