BEGIN:VCALENDAR
VERSION:2.0
PRODID:-//Vision Bermuda - ECPv6.15.18//NONSGML v1.0//EN
CALSCALE:GREGORIAN
METHOD:PUBLISH
X-ORIGINAL-URL:https://visionbermuda.bm
X-WR-CALDESC:Events for Vision Bermuda
REFRESH-INTERVAL;VALUE=DURATION:PT1H
X-Robots-Tag:noindex
X-PUBLISHED-TTL:PT1H
BEGIN:VTIMEZONE
TZID:UTC
BEGIN:STANDARD
TZOFFSETFROM:+0000
TZOFFSETTO:+0000
TZNAME:UTC
DTSTART:20240101T000000
END:STANDARD
END:VTIMEZONE
BEGIN:VEVENT
DTSTART;TZID=UTC:20250312T100000
DTEND;TZID=UTC:20250312T110000
DTSTAMP:20260423T132148
CREATED:20241213T140831Z
LAST-MODIFIED:20241213T140831Z
UID:2017-1741773600-1741777200@visionbermuda.bm
SUMMARY:Movement Therapy with Paul Lambert
DESCRIPTION:
URL:https://visionbermuda.bm/event/movement-therapy-with-paul-lambert-22/
END:VEVENT
BEGIN:VEVENT
DTSTART;TZID=UTC:20250312T110000
DTEND;TZID=UTC:20250312T113000
DTSTAMP:20260423T132148
CREATED:20241213T142430Z
LAST-MODIFIED:20241213T142430Z
UID:2071-1741777200-1741779000@visionbermuda.bm
SUMMARY:Social Group
DESCRIPTION:
URL:https://visionbermuda.bm/event/social-group-50/
END:VEVENT
BEGIN:VEVENT
DTSTART;TZID=UTC:20250312T171500
DTEND;TZID=UTC:20250312T174500
DTSTAMP:20260423T132148
CREATED:20250110T132431Z
LAST-MODIFIED:20250205T144257Z
UID:2532-1741799700-1741801500@visionbermuda.bm
SUMMARY:Vision Talk – Power 95
DESCRIPTION:
URL:https://visionbermuda.bm/event/vision-talk-power-95-8/
END:VEVENT
END:VCALENDAR