BEGIN:VCALENDAR
VERSION:2.0
PRODID:-//Vision Bermuda - ECPv6.15.18//NONSGML v1.0//EN
CALSCALE:GREGORIAN
METHOD:PUBLISH
X-WR-CALNAME:Vision Bermuda
X-ORIGINAL-URL:https://visionbermuda.bm
X-WR-CALDESC:Events for Vision Bermuda
REFRESH-INTERVAL;VALUE=DURATION:PT1H
X-Robots-Tag:noindex
X-PUBLISHED-TTL:PT1H
BEGIN:VTIMEZONE
TZID:UTC
BEGIN:STANDARD
TZOFFSETFROM:+0000
TZOFFSETTO:+0000
TZNAME:UTC
DTSTART:20240101T000000
END:STANDARD
END:VTIMEZONE
BEGIN:VEVENT
DTSTART;TZID=UTC:20250320T093000
DTEND;TZID=UTC:20250320T113000
DTSTAMP:20260423T131908
CREATED:20250106T142156Z
LAST-MODIFIED:20250106T142156Z
UID:2247-1742463000-1742470200@visionbermuda.bm
SUMMARY:Keyboarding and Computers (Contact us to be added to the Waitlist)
DESCRIPTION:
URL:https://visionbermuda.bm/event/keyboarding-and-computers-contact-us-to-be-added-to-the-waitlist-21/
END:VEVENT
BEGIN:VEVENT
DTSTART;TZID=UTC:20250320T113000
DTEND;TZID=UTC:20250320T120000
DTSTAMP:20260423T131908
CREATED:20250106T143737Z
LAST-MODIFIED:20250106T143737Z
UID:2305-1742470200-1742472000@visionbermuda.bm
SUMMARY:Keyboarding and Computers social time
DESCRIPTION:
URL:https://visionbermuda.bm/event/keyboarding-and-computers-social-time-21/
END:VEVENT
END:VCALENDAR