BEGIN:VCALENDAR
VERSION:2.0
PRODID:-//Vision Bermuda - ECPv6.15.18//NONSGML v1.0//EN
CALSCALE:GREGORIAN
METHOD:PUBLISH
X-WR-CALNAME:Vision Bermuda
X-ORIGINAL-URL:https://visionbermuda.bm
X-WR-CALDESC:Events for Vision Bermuda
REFRESH-INTERVAL;VALUE=DURATION:PT1H
X-Robots-Tag:noindex
X-PUBLISHED-TTL:PT1H
BEGIN:VTIMEZONE
TZID:UTC
BEGIN:STANDARD
TZOFFSETFROM:+0000
TZOFFSETTO:+0000
TZNAME:UTC
DTSTART:20240101T000000
END:STANDARD
END:VTIMEZONE
BEGIN:VEVENT
DTSTART;TZID=UTC:20250513T093000
DTEND;TZID=UTC:20250513T110000
DTSTAMP:20260421T114622
CREATED:20250430T141244Z
LAST-MODIFIED:20250430T141244Z
UID:2848-1747128600-1747134000@visionbermuda.bm
SUMMARY:Keyboarding and Computers (Contact us to be added to the Waitlist)
DESCRIPTION:
URL:https://visionbermuda.bm/event/keyboarding-and-computers-contact-us-to-be-added-to-the-waitlist-35/
END:VEVENT
BEGIN:VEVENT
DTSTART;TZID=UTC:20250513T113000
DTEND;TZID=UTC:20250513T120000
DTSTAMP:20260421T114622
CREATED:20250430T141435Z
LAST-MODIFIED:20250430T141435Z
UID:2856-1747135800-1747137600@visionbermuda.bm
SUMMARY:Keyboarding and Computers social time
DESCRIPTION:
URL:https://visionbermuda.bm/event/keyboarding-and-computers-social-time-35/
END:VEVENT
BEGIN:VEVENT
DTSTART;TZID=UTC:20250513T171500
DTEND;TZID=UTC:20250513T174500
DTSTAMP:20260421T114622
CREATED:20250205T133233Z
LAST-MODIFIED:20250205T133233Z
UID:2590-1747156500-1747158300@visionbermuda.bm
SUMMARY:Vision Talk - Ocean89
DESCRIPTION:
URL:https://visionbermuda.bm/event/vision-talk-ocean89-4/
END:VEVENT
END:VCALENDAR