BEGIN:VCALENDAR
VERSION:2.0
PRODID:-//Vision Bermuda - ECPv6.15.18//NONSGML v1.0//EN
CALSCALE:GREGORIAN
METHOD:PUBLISH
X-ORIGINAL-URL:https://visionbermuda.bm
X-WR-CALDESC:Events for Vision Bermuda
REFRESH-INTERVAL;VALUE=DURATION:PT1H
X-Robots-Tag:noindex
X-PUBLISHED-TTL:PT1H
BEGIN:VTIMEZONE
TZID:UTC
BEGIN:STANDARD
TZOFFSETFROM:+0000
TZOFFSETTO:+0000
TZNAME:UTC
DTSTART:20240101T000000
END:STANDARD
END:VTIMEZONE
BEGIN:VEVENT
DTSTART;TZID=UTC:20250514T100000
DTEND;TZID=UTC:20250514T110000
DTSTAMP:20260421T101202
CREATED:20250430T152805Z
LAST-MODIFIED:20250430T152805Z
UID:2870-1747216800-1747220400@visionbermuda.bm
SUMMARY:Therapeutic Muscle & Manipulation with Paul Lambert
DESCRIPTION:
URL:https://visionbermuda.bm/event/therapeutic-muscle-manipulation-with-paul-lambert-2/
END:VEVENT
BEGIN:VEVENT
DTSTART;TZID=UTC:20250514T110000
DTEND;TZID=UTC:20250514T120000
DTSTAMP:20260421T101202
CREATED:20250430T153052Z
LAST-MODIFIED:20250430T153052Z
UID:2878-1747220400-1747224000@visionbermuda.bm
SUMMARY:Social Group
DESCRIPTION:
URL:https://visionbermuda.bm/event/social-group-70/
END:VEVENT
BEGIN:VEVENT
DTSTART;TZID=UTC:20250514T114500
DTEND;TZID=UTC:20250514T133000
DTSTAMP:20260421T101202
CREATED:20250430T153330Z
LAST-MODIFIED:20250430T153401Z
UID:2884-1747223100-1747229400@visionbermuda.bm
SUMMARY:Games afternoon   !!!!Bingo!!! with Calvina
DESCRIPTION:
URL:https://visionbermuda.bm/event/games-afternoonbingo-with-calvina/
END:VEVENT
BEGIN:VEVENT
DTSTART;TZID=UTC:20250514T171500
DTEND;TZID=UTC:20250514T174500
DTSTAMP:20260421T101202
CREATED:20250205T144412Z
LAST-MODIFIED:20250205T144412Z
UID:2609-1747242900-1747244700@visionbermuda.bm
SUMMARY:Vision Talk – Power 95
DESCRIPTION:
URL:https://visionbermuda.bm/event/vision-talk-power-95-10/
END:VEVENT
END:VCALENDAR