BEGIN:VCALENDAR
VERSION:2.0
PRODID:-//Vision Bermuda - ECPv6.15.18//NONSGML v1.0//EN
CALSCALE:GREGORIAN
METHOD:PUBLISH
X-ORIGINAL-URL:https://visionbermuda.bm
X-WR-CALDESC:Events for Vision Bermuda
REFRESH-INTERVAL;VALUE=DURATION:PT1H
X-Robots-Tag:noindex
X-PUBLISHED-TTL:PT1H
BEGIN:VTIMEZONE
TZID:UTC
BEGIN:STANDARD
TZOFFSETFROM:+0000
TZOFFSETTO:+0000
TZNAME:UTC
DTSTART:20240101T000000
END:STANDARD
END:VTIMEZONE
BEGIN:VEVENT
DTSTART;TZID=UTC:20250515T093000
DTEND;TZID=UTC:20250515T113000
DTSTAMP:20260421T113512
CREATED:20250430T155428Z
LAST-MODIFIED:20250430T155428Z
UID:2913-1747301400-1747308600@visionbermuda.bm
SUMMARY:Keyboarding and Computers (Contact us to be added to the Waitlist)
DESCRIPTION:
URL:https://visionbermuda.bm/event/keyboarding-and-computers-contact-us-to-be-added-to-the-waitlist-40/
END:VEVENT
BEGIN:VEVENT
DTSTART;TZID=UTC:20250515T113000
DTEND;TZID=UTC:20250515T120000
DTSTAMP:20260421T113512
CREATED:20250430T153844Z
LAST-MODIFIED:20250430T153844Z
UID:2891-1747308600-1747310400@visionbermuda.bm
SUMMARY:Keyboarding and Computers social time
DESCRIPTION:
URL:https://visionbermuda.bm/event/keyboarding-and-computers-social-time-40/
END:VEVENT
BEGIN:VEVENT
DTSTART;TZID=UTC:20250515T133000
DTEND;TZID=UTC:20250515T153000
DTSTAMP:20260421T113512
CREATED:20250430T154801Z
LAST-MODIFIED:20250430T154818Z
UID:2902-1747315800-1747323000@visionbermuda.bm
SUMMARY:Let’s Cook 2 (Phone us on 7072642 to be added to the Waitlist!)
DESCRIPTION:
URL:https://visionbermuda.bm/event/lets-cook-2-8/
END:VEVENT
END:VCALENDAR