BEGIN:VCALENDAR
VERSION:2.0
PRODID:-//Vision Bermuda - ECPv6.15.18//NONSGML v1.0//EN
CALSCALE:GREGORIAN
METHOD:PUBLISH
X-WR-CALNAME:Vision Bermuda
X-ORIGINAL-URL:https://visionbermuda.bm
X-WR-CALDESC:Events for Vision Bermuda
REFRESH-INTERVAL;VALUE=DURATION:PT1H
X-Robots-Tag:noindex
X-PUBLISHED-TTL:PT1H
BEGIN:VTIMEZONE
TZID:UTC
BEGIN:STANDARD
TZOFFSETFROM:+0000
TZOFFSETTO:+0000
TZNAME:UTC
DTSTART:20240101T000000
END:STANDARD
END:VTIMEZONE
BEGIN:VEVENT
DTSTART;TZID=UTC:20250519T100000
DTEND;TZID=UTC:20250519T110000
DTSTAMP:20260421T113638
CREATED:20250430T135904Z
LAST-MODIFIED:20250430T135904Z
UID:2826-1747648800-1747652400@visionbermuda.bm
SUMMARY:Movement Therapy with Paul Lambert
DESCRIPTION:
URL:https://visionbermuda.bm/event/movement-therapy-with-paul-lambert-34/
END:VEVENT
BEGIN:VEVENT
DTSTART;TZID=UTC:20250519T110000
DTEND;TZID=UTC:20250519T120000
DTSTAMP:20260421T113638
CREATED:20250430T140338Z
LAST-MODIFIED:20250430T140338Z
UID:2834-1747652400-1747656000@visionbermuda.bm
SUMMARY:Social Group
DESCRIPTION:
URL:https://visionbermuda.bm/event/social-group-67/
END:VEVENT
BEGIN:VEVENT
DTSTART;TZID=UTC:20250519T140000
DTEND;TZID=UTC:20250519T153000
DTSTAMP:20260421T113638
CREATED:20250430T140904Z
LAST-MODIFIED:20250430T140904Z
UID:2842-1747663200-1747668600@visionbermuda.bm
SUMMARY:Walking Group – National Stadium
DESCRIPTION:
URL:https://visionbermuda.bm/event/walking-group-national-stadium-3/
END:VEVENT
END:VCALENDAR