BEGIN:VCALENDAR
VERSION:2.0
PRODID:-//Vision Bermuda - ECPv6.15.18//NONSGML v1.0//EN
CALSCALE:GREGORIAN
METHOD:PUBLISH
X-WR-CALNAME:Vision Bermuda
X-ORIGINAL-URL:https://visionbermuda.bm
X-WR-CALDESC:Events for Vision Bermuda
REFRESH-INTERVAL;VALUE=DURATION:PT1H
X-Robots-Tag:noindex
X-PUBLISHED-TTL:PT1H
BEGIN:VTIMEZONE
TZID:UTC
BEGIN:STANDARD
TZOFFSETFROM:+0000
TZOFFSETTO:+0000
TZNAME:UTC
DTSTART:20240101T000000
END:STANDARD
END:VTIMEZONE
BEGIN:VEVENT
DTSTART;TZID=UTC:20250520T093000
DTEND;TZID=UTC:20250520T110000
DTSTAMP:20260421T100929
CREATED:20250430T141301Z
LAST-MODIFIED:20250430T141301Z
UID:2850-1747733400-1747738800@visionbermuda.bm
SUMMARY:Keyboarding and Computers (Contact us to be added to the Waitlist)
DESCRIPTION:
URL:https://visionbermuda.bm/event/keyboarding-and-computers-contact-us-to-be-added-to-the-waitlist-36/
END:VEVENT
BEGIN:VEVENT
DTSTART;TZID=UTC:20250520T113000
DTEND;TZID=UTC:20250520T120000
DTSTAMP:20260421T100929
CREATED:20250430T141456Z
LAST-MODIFIED:20250430T141456Z
UID:2858-1747740600-1747742400@visionbermuda.bm
SUMMARY:Keyboarding and Computers social time
DESCRIPTION:
URL:https://visionbermuda.bm/event/keyboarding-and-computers-social-time-36/
END:VEVENT
BEGIN:VEVENT
DTSTART;TZID=UTC:20250520T133000
DTEND;TZID=UTC:20250520T150000
DTSTAMP:20260421T100929
CREATED:20250430T142036Z
LAST-MODIFIED:20250430T142036Z
UID:2864-1747747800-1747753200@visionbermuda.bm
SUMMARY:Knitting Group with Helen
DESCRIPTION:
URL:https://visionbermuda.bm/event/knitting-group-with-helen/
END:VEVENT
END:VCALENDAR