BEGIN:VCALENDAR
VERSION:2.0
PRODID:-//Vision Bermuda - ECPv6.15.18//NONSGML v1.0//EN
CALSCALE:GREGORIAN
METHOD:PUBLISH
X-ORIGINAL-URL:https://visionbermuda.bm
X-WR-CALDESC:Events for Vision Bermuda
REFRESH-INTERVAL;VALUE=DURATION:PT1H
X-Robots-Tag:noindex
X-PUBLISHED-TTL:PT1H
BEGIN:VTIMEZONE
TZID:UTC
BEGIN:STANDARD
TZOFFSETFROM:+0000
TZOFFSETTO:+0000
TZNAME:UTC
DTSTART:20240101T000000
END:STANDARD
END:VTIMEZONE
BEGIN:VEVENT
DTSTART;TZID=UTC:20250527T093000
DTEND;TZID=UTC:20250527T110000
DTSTAMP:20260421T062900
CREATED:20250430T141330Z
LAST-MODIFIED:20250430T141330Z
UID:2852-1748338200-1748343600@visionbermuda.bm
SUMMARY:Keyboarding and Computers (Contact us to be added to the Waitlist)
DESCRIPTION:
URL:https://visionbermuda.bm/event/keyboarding-and-computers-contact-us-to-be-added-to-the-waitlist-37/
END:VEVENT
BEGIN:VEVENT
DTSTART;TZID=UTC:20250527T113000
DTEND;TZID=UTC:20250527T120000
DTSTAMP:20260421T062900
CREATED:20250430T141529Z
LAST-MODIFIED:20250430T141529Z
UID:2860-1748345400-1748347200@visionbermuda.bm
SUMMARY:Keyboarding and Computers social time
DESCRIPTION:
URL:https://visionbermuda.bm/event/keyboarding-and-computers-social-time-37/
END:VEVENT
BEGIN:VEVENT
DTSTART;TZID=UTC:20250527T140000
DTEND;TZID=UTC:20250527T153000
DTSTAMP:20260421T062900
CREATED:20250430T142507Z
LAST-MODIFIED:20250430T142507Z
UID:2866-1748354400-1748359800@visionbermuda.bm
SUMMARY:Family Support Group
DESCRIPTION:
URL:https://visionbermuda.bm/event/family-support-group-5/
END:VEVENT
END:VCALENDAR