BEGIN:VCALENDAR
VERSION:2.0
PRODID:-//Vision Bermuda - ECPv6.15.18//NONSGML v1.0//EN
CALSCALE:GREGORIAN
METHOD:PUBLISH
X-ORIGINAL-URL:https://visionbermuda.bm
X-WR-CALDESC:Events for Vision Bermuda
REFRESH-INTERVAL;VALUE=DURATION:PT1H
X-Robots-Tag:noindex
X-PUBLISHED-TTL:PT1H
BEGIN:VTIMEZONE
TZID:UTC
BEGIN:STANDARD
TZOFFSETFROM:+0000
TZOFFSETTO:+0000
TZNAME:UTC
DTSTART:20240101T000000
END:STANDARD
END:VTIMEZONE
BEGIN:VEVENT
DTSTART;TZID=UTC:20250529T093000
DTEND;TZID=UTC:20250529T113000
DTSTAMP:20260421T093701
CREATED:20250430T155525Z
LAST-MODIFIED:20250430T155525Z
UID:2917-1748511000-1748518200@visionbermuda.bm
SUMMARY:Keyboarding and Computers (Contact us to be added to the Waitlist)
DESCRIPTION:
URL:https://visionbermuda.bm/event/keyboarding-and-computers-contact-us-to-be-added-to-the-waitlist-42/
END:VEVENT
BEGIN:VEVENT
DTSTART;TZID=UTC:20250529T113000
DTEND;TZID=UTC:20250529T120000
DTSTAMP:20260421T093701
CREATED:20250430T153929Z
LAST-MODIFIED:20250430T153929Z
UID:2895-1748518200-1748520000@visionbermuda.bm
SUMMARY:Keyboarding and Computers social time
DESCRIPTION:
URL:https://visionbermuda.bm/event/keyboarding-and-computers-social-time-42/
END:VEVENT
BEGIN:VEVENT
DTSTART;TZID=UTC:20250529T133000
DTEND;TZID=UTC:20250529T143000
DTSTAMP:20260421T093701
CREATED:20250430T154937Z
LAST-MODIFIED:20250430T154937Z
UID:2905-1748525400-1748529000@visionbermuda.bm
SUMMARY:Herbs and Plants with Calvina
DESCRIPTION:
URL:https://visionbermuda.bm/event/herbs-and-plants-with-calvina-2/
END:VEVENT
END:VCALENDAR