BEGIN:VCALENDAR
VERSION:2.0
PRODID:-//Vision Bermuda - ECPv6.15.18//NONSGML v1.0//EN
CALSCALE:GREGORIAN
METHOD:PUBLISH
X-WR-CALNAME:Vision Bermuda
X-ORIGINAL-URL:https://visionbermuda.bm
X-WR-CALDESC:Events for Vision Bermuda
REFRESH-INTERVAL;VALUE=DURATION:PT1H
X-Robots-Tag:noindex
X-PUBLISHED-TTL:PT1H
BEGIN:VTIMEZONE
TZID:UTC
BEGIN:STANDARD
TZOFFSETFROM:+0000
TZOFFSETTO:+0000
TZNAME:UTC
DTSTART:20240101T000000
END:STANDARD
END:VTIMEZONE
BEGIN:VEVENT
DTSTART;TZID=UTC:20250610T093000
DTEND;TZID=UTC:20250610T110000
DTSTAMP:20260421T152212
CREATED:20250526T191346Z
LAST-MODIFIED:20250526T191346Z
UID:3056-1749547800-1749553200@visionbermuda.bm
SUMMARY:Keyboarding and Computers (Contact us to be added to the Waitlist)
DESCRIPTION:
URL:https://visionbermuda.bm/event/keyboarding-and-computers-contact-us-to-be-added-to-the-waitlist-44/
END:VEVENT
BEGIN:VEVENT
DTSTART;TZID=UTC:20250610T113000
DTEND;TZID=UTC:20250610T120000
DTSTAMP:20260421T152212
CREATED:20250526T191538Z
LAST-MODIFIED:20250526T191639Z
UID:3064-1749555000-1749556800@visionbermuda.bm
SUMMARY:Keyboarding and Computers social time
DESCRIPTION:
URL:https://visionbermuda.bm/event/keyboarding-and-computers-social-time-44/
END:VEVENT
BEGIN:VEVENT
DTSTART;TZID=UTC:20250610T171500
DTEND;TZID=UTC:20250610T174500
DTSTAMP:20260421T152212
CREATED:20250205T133306Z
LAST-MODIFIED:20250205T133306Z
UID:2592-1749575700-1749577500@visionbermuda.bm
SUMMARY:Vision Talk - Ocean89
DESCRIPTION:
URL:https://visionbermuda.bm/event/vision-talk-ocean89-5/
END:VEVENT
END:VCALENDAR