BEGIN:VCALENDAR
VERSION:2.0
PRODID:-//Vision Bermuda - ECPv6.15.18//NONSGML v1.0//EN
CALSCALE:GREGORIAN
METHOD:PUBLISH
X-WR-CALNAME:Vision Bermuda
X-ORIGINAL-URL:https://visionbermuda.bm
X-WR-CALDESC:Events for Vision Bermuda
REFRESH-INTERVAL;VALUE=DURATION:PT1H
X-Robots-Tag:noindex
X-PUBLISHED-TTL:PT1H
BEGIN:VTIMEZONE
TZID:UTC
BEGIN:STANDARD
TZOFFSETFROM:+0000
TZOFFSETTO:+0000
TZNAME:UTC
DTSTART:20240101T000000
END:STANDARD
END:VTIMEZONE
BEGIN:VEVENT
DTSTART;TZID=UTC:20250611T100000
DTEND;TZID=UTC:20250611T110000
DTSTAMP:20260421T152211
CREATED:20250526T192251Z
LAST-MODIFIED:20250526T192251Z
UID:3077-1749636000-1749639600@visionbermuda.bm
SUMMARY:Therapeutic Muscle & Manipulation with Paul Lambert
DESCRIPTION:
URL:https://visionbermuda.bm/event/therapeutic-muscle-manipulation-with-paul-lambert-6/
END:VEVENT
BEGIN:VEVENT
DTSTART;TZID=UTC:20250611T110000
DTEND;TZID=UTC:20250611T120000
DTSTAMP:20260421T152211
CREATED:20250526T192458Z
LAST-MODIFIED:20250526T192458Z
UID:3085-1749639600-1749643200@visionbermuda.bm
SUMMARY:Social Group
DESCRIPTION:
URL:https://visionbermuda.bm/event/social-group-78/
END:VEVENT
BEGIN:VEVENT
DTSTART;TZID=UTC:20250611T114500
DTEND;TZID=UTC:20250611T133000
DTSTAMP:20260421T152211
CREATED:20250526T192833Z
LAST-MODIFIED:20250526T192833Z
UID:3091-1749642300-1749648600@visionbermuda.bm
SUMMARY:Games afternoon !!!!Bingo!!! with Calvina
DESCRIPTION:
URL:https://visionbermuda.bm/event/games-afternoon-bingo-with-calvina/
END:VEVENT
BEGIN:VEVENT
DTSTART;TZID=UTC:20250611T171500
DTEND;TZID=UTC:20250611T174500
DTSTAMP:20260421T152211
CREATED:20250205T144451Z
LAST-MODIFIED:20250205T144451Z
UID:2611-1749662100-1749663900@visionbermuda.bm
SUMMARY:Vision Talk – Power 95
DESCRIPTION:
URL:https://visionbermuda.bm/event/vision-talk-power-95-11/
END:VEVENT
END:VCALENDAR