BEGIN:VCALENDAR
VERSION:2.0
PRODID:-//Vision Bermuda - ECPv6.15.18//NONSGML v1.0//EN
CALSCALE:GREGORIAN
METHOD:PUBLISH
X-ORIGINAL-URL:https://visionbermuda.bm
X-WR-CALDESC:Events for Vision Bermuda
REFRESH-INTERVAL;VALUE=DURATION:PT1H
X-Robots-Tag:noindex
X-PUBLISHED-TTL:PT1H
BEGIN:VTIMEZONE
TZID:UTC
BEGIN:STANDARD
TZOFFSETFROM:+0000
TZOFFSETTO:+0000
TZNAME:UTC
DTSTART:20240101T000000
END:STANDARD
END:VTIMEZONE
BEGIN:VEVENT
DTSTART;TZID=UTC:20250618T100000
DTEND;TZID=UTC:20250618T110000
DTSTAMP:20260421T152451
CREATED:20250526T192309Z
LAST-MODIFIED:20250526T192309Z
UID:3079-1750240800-1750244400@visionbermuda.bm
SUMMARY:Therapeutic Muscle & Manipulation with Paul Lambert
DESCRIPTION:
URL:https://visionbermuda.bm/event/therapeutic-muscle-manipulation-with-paul-lambert-7/
END:VEVENT
BEGIN:VEVENT
DTSTART;TZID=UTC:20250618T110000
DTEND;TZID=UTC:20250618T120000
DTSTAMP:20260421T152451
CREATED:20250526T192516Z
LAST-MODIFIED:20250526T192516Z
UID:3087-1750244400-1750248000@visionbermuda.bm
SUMMARY:Social Group
DESCRIPTION:
URL:https://visionbermuda.bm/event/social-group-79/
END:VEVENT
BEGIN:VEVENT
DTSTART;TZID=UTC:20250618T133000
DTEND;TZID=UTC:20250618T150000
DTSTAMP:20260421T152451
CREATED:20250526T193001Z
LAST-MODIFIED:20250526T193001Z
UID:3093-1750253400-1750258800@visionbermuda.bm
SUMMARY:Herbs and Plants with Calvina
DESCRIPTION:
URL:https://visionbermuda.bm/event/herbs-and-plants-with-calvina-3/
END:VEVENT
END:VCALENDAR