BEGIN:VCALENDAR
VERSION:2.0
PRODID:-//Vision Bermuda - ECPv6.15.18//NONSGML v1.0//EN
CALSCALE:GREGORIAN
METHOD:PUBLISH
X-ORIGINAL-URL:https://visionbermuda.bm
X-WR-CALDESC:Events for Vision Bermuda
REFRESH-INTERVAL;VALUE=DURATION:PT1H
X-Robots-Tag:noindex
X-PUBLISHED-TTL:PT1H
BEGIN:VTIMEZONE
TZID:UTC
BEGIN:STANDARD
TZOFFSETFROM:+0000
TZOFFSETTO:+0000
TZNAME:UTC
DTSTART:20240101T000000
END:STANDARD
END:VTIMEZONE
BEGIN:VEVENT
DTSTART;TZID=UTC:20250619T093000
DTEND;TZID=UTC:20250619T113000
DTSTAMP:20260421T152507
CREATED:20250526T193155Z
LAST-MODIFIED:20250526T193155Z
UID:3099-1750325400-1750332600@visionbermuda.bm
SUMMARY:Keyboarding and Computers (Contact us to be added to the Waitlist)
DESCRIPTION:
URL:https://visionbermuda.bm/event/keyboarding-and-computers-contact-us-to-be-added-to-the-waitlist-49/
END:VEVENT
BEGIN:VEVENT
DTSTART;TZID=UTC:20250619T113000
DTEND;TZID=UTC:20250619T120000
DTSTAMP:20260421T152507
CREATED:20250526T193334Z
LAST-MODIFIED:20250526T193334Z
UID:3107-1750332600-1750334400@visionbermuda.bm
SUMMARY:Keyboarding and Computers social time
DESCRIPTION:
URL:https://visionbermuda.bm/event/keyboarding-and-computers-social-time-49/
END:VEVENT
BEGIN:VEVENT
DTSTART;TZID=UTC:20250619T133000
DTEND;TZID=UTC:20250619T153000
DTSTAMP:20260421T152507
CREATED:20250526T193742Z
LAST-MODIFIED:20250526T193742Z
UID:3113-1750339800-1750347000@visionbermuda.bm
SUMMARY:Let’s Cook 2 (Phone us on 7072642 to be added to the Waitlist!)
DESCRIPTION:
URL:https://visionbermuda.bm/event/lets-cook-2-phone-us-on-7072642-to-be-added-to-the-waitlist/
END:VEVENT
END:VCALENDAR