BEGIN:VCALENDAR
VERSION:2.0
PRODID:-//Vision Bermuda - ECPv6.15.18//NONSGML v1.0//EN
CALSCALE:GREGORIAN
METHOD:PUBLISH
X-ORIGINAL-URL:https://visionbermuda.bm
X-WR-CALDESC:Events for Vision Bermuda
REFRESH-INTERVAL;VALUE=DURATION:PT1H
X-Robots-Tag:noindex
X-PUBLISHED-TTL:PT1H
BEGIN:VTIMEZONE
TZID:UTC
BEGIN:STANDARD
TZOFFSETFROM:+0000
TZOFFSETTO:+0000
TZNAME:UTC
DTSTART:20240101T000000
END:STANDARD
END:VTIMEZONE
BEGIN:VEVENT
DTSTART;TZID=UTC:20250624T093000
DTEND;TZID=UTC:20250624T110000
DTSTAMP:20260421T190555
CREATED:20250526T191448Z
LAST-MODIFIED:20250526T191448Z
UID:3060-1750757400-1750762800@visionbermuda.bm
SUMMARY:Keyboarding and Computers (Contact us to be added to the Waitlist)
DESCRIPTION:
URL:https://visionbermuda.bm/event/keyboarding-and-computers-contact-us-to-be-added-to-the-waitlist-46/
END:VEVENT
BEGIN:VEVENT
DTSTART;TZID=UTC:20250624T113000
DTEND;TZID=UTC:20250624T120000
DTSTAMP:20260421T190555
CREATED:20250526T191746Z
LAST-MODIFIED:20250526T191746Z
UID:3068-1750764600-1750766400@visionbermuda.bm
SUMMARY:Keyboarding and Computers social time
DESCRIPTION:
URL:https://visionbermuda.bm/event/keyboarding-and-computers-social-time-46/
END:VEVENT
BEGIN:VEVENT
DTSTART;TZID=UTC:20250624T140000
DTEND;TZID=UTC:20250624T153000
DTSTAMP:20260421T190555
CREATED:20250526T192050Z
LAST-MODIFIED:20250526T192050Z
UID:3072-1750773600-1750779000@visionbermuda.bm
SUMMARY:Family Support Group
DESCRIPTION:
URL:https://visionbermuda.bm/event/family-support-group-6/
END:VEVENT
END:VCALENDAR