BEGIN:VCALENDAR
VERSION:2.0
PRODID:-//Vision Bermuda - ECPv6.15.18//NONSGML v1.0//EN
CALSCALE:GREGORIAN
METHOD:PUBLISH
X-ORIGINAL-URL:https://visionbermuda.bm
X-WR-CALDESC:Events for Vision Bermuda
REFRESH-INTERVAL;VALUE=DURATION:PT1H
X-Robots-Tag:noindex
X-PUBLISHED-TTL:PT1H
BEGIN:VTIMEZONE
TZID:UTC
BEGIN:STANDARD
TZOFFSETFROM:+0000
TZOFFSETTO:+0000
TZNAME:UTC
DTSTART:20240101T000000
END:STANDARD
END:VTIMEZONE
BEGIN:VEVENT
DTSTART;TZID=UTC:20250709T100000
DTEND;TZID=UTC:20250709T110000
DTSTAMP:20260421T212536
CREATED:20250625T190254Z
LAST-MODIFIED:20250625T190254Z
UID:3272-1752055200-1752058800@visionbermuda.bm
SUMMARY:Therapeutic Muscle & Manipulation with Paul Lambert
DESCRIPTION:
URL:https://visionbermuda.bm/event/therapeutic-muscle-manipulation-with-paul-lambert-10/
END:VEVENT
BEGIN:VEVENT
DTSTART;TZID=UTC:20250709T110000
DTEND;TZID=UTC:20250709T120000
DTSTAMP:20260421T212536
CREATED:20250625T190545Z
LAST-MODIFIED:20250625T190545Z
UID:3282-1752058800-1752062400@visionbermuda.bm
SUMMARY:Social Group
DESCRIPTION:
URL:https://visionbermuda.bm/event/social-group-86/
END:VEVENT
BEGIN:VEVENT
DTSTART;TZID=UTC:20250709T133000
DTEND;TZID=UTC:20250709T150000
DTSTAMP:20260421T212536
CREATED:20250625T190806Z
LAST-MODIFIED:20250625T190806Z
UID:3290-1752067800-1752073200@visionbermuda.bm
SUMMARY:Games afternoon !!!!Bingo!!! with Calvina
DESCRIPTION:
URL:https://visionbermuda.bm/event/games-afternoon-bingo-with-calvina-2/
END:VEVENT
BEGIN:VEVENT
DTSTART;TZID=UTC:20250709T171500
DTEND;TZID=UTC:20250709T174500
DTSTAMP:20260421T212536
CREATED:20250205T144532Z
LAST-MODIFIED:20250205T144532Z
UID:2613-1752081300-1752083100@visionbermuda.bm
SUMMARY:Vision Talk – Power 95
DESCRIPTION:
URL:https://visionbermuda.bm/event/vision-talk-power-95-12/
END:VEVENT
END:VCALENDAR