BEGIN:VCALENDAR
VERSION:2.0
PRODID:-//Vision Bermuda - ECPv6.15.18//NONSGML v1.0//EN
CALSCALE:GREGORIAN
METHOD:PUBLISH
X-WR-CALNAME:Vision Bermuda
X-ORIGINAL-URL:https://visionbermuda.bm
X-WR-CALDESC:Events for Vision Bermuda
REFRESH-INTERVAL;VALUE=DURATION:PT1H
X-Robots-Tag:noindex
X-PUBLISHED-TTL:PT1H
BEGIN:VTIMEZONE
TZID:UTC
BEGIN:STANDARD
TZOFFSETFROM:+0000
TZOFFSETTO:+0000
TZNAME:UTC
DTSTART:20240101T000000
END:STANDARD
END:VTIMEZONE
BEGIN:VEVENT
DTSTART;TZID=UTC:20250715T093000
DTEND;TZID=UTC:20250715T110000
DTSTAMP:20260422T032610
CREATED:20250625T181505Z
LAST-MODIFIED:20250625T181505Z
UID:3234-1752571800-1752577200@visionbermuda.bm
SUMMARY:Keyboarding and Computers (Contact us to be added to the Waitlist)
DESCRIPTION:
URL:https://visionbermuda.bm/event/keyboarding-and-computers-contact-us-to-be-added-to-the-waitlist-51/
END:VEVENT
BEGIN:VEVENT
DTSTART;TZID=UTC:20250715T113000
DTEND;TZID=UTC:20250715T120000
DTSTAMP:20260422T032610
CREATED:20250625T181756Z
LAST-MODIFIED:20250625T181756Z
UID:3240-1752579000-1752580800@visionbermuda.bm
SUMMARY:Keyboarding and Computers social time
DESCRIPTION:
URL:https://visionbermuda.bm/event/keyboarding-and-computers-social-time-51/
END:VEVENT
BEGIN:VEVENT
DTSTART;TZID=UTC:20250715T133000
DTEND;TZID=UTC:20250715T150000
DTSTAMP:20260422T032610
CREATED:20250625T185658Z
LAST-MODIFIED:20250625T185658Z
UID:3266-1752586200-1752591600@visionbermuda.bm
SUMMARY:Knitting Group with Helen
DESCRIPTION:
URL:https://visionbermuda.bm/event/knitting-group-with-helen-5/
END:VEVENT
END:VCALENDAR