BEGIN:VCALENDAR
VERSION:2.0
PRODID:-//Vision Bermuda - ECPv6.15.18//NONSGML v1.0//EN
CALSCALE:GREGORIAN
METHOD:PUBLISH
X-WR-CALNAME:Vision Bermuda
X-ORIGINAL-URL:https://visionbermuda.bm
X-WR-CALDESC:Events for Vision Bermuda
REFRESH-INTERVAL;VALUE=DURATION:PT1H
X-Robots-Tag:noindex
X-PUBLISHED-TTL:PT1H
BEGIN:VTIMEZONE
TZID:UTC
BEGIN:STANDARD
TZOFFSETFROM:+0000
TZOFFSETTO:+0000
TZNAME:UTC
DTSTART:20250101T000000
END:STANDARD
END:VTIMEZONE
BEGIN:VEVENT
DTSTART;TZID=UTC:20260507T093000
DTEND;TZID=UTC:20260507T110000
DTSTAMP:20260422T090835
CREATED:20260406T154424Z
LAST-MODIFIED:20260406T154424Z
UID:5638-1778146200-1778151600@visionbermuda.bm
SUMMARY:Keyboarding and Computers (Contact us to be added to the Waitlist)
DESCRIPTION:
URL:https://visionbermuda.bm/event/keyboarding-and-computers-contact-us-to-be-added-to-the-waitlist-123/
END:VEVENT
BEGIN:VEVENT
DTSTART;TZID=UTC:20260507T113000
DTEND;TZID=UTC:20260507T120000
DTSTAMP:20260422T090835
CREATED:20260406T154604Z
LAST-MODIFIED:20260406T154604Z
UID:5646-1778153400-1778155200@visionbermuda.bm
SUMMARY:Keyboarding and Computers social time
DESCRIPTION:
URL:https://visionbermuda.bm/event/keyboarding-and-computers-social-time-123/
END:VEVENT
BEGIN:VEVENT
DTSTART;TZID=UTC:20260507T133000
DTEND;TZID=UTC:20260507T153000
DTSTAMP:20260422T090835
CREATED:20260406T162823Z
LAST-MODIFIED:20260406T163018Z
UID:5669-1778160600-1778167800@visionbermuda.bm
SUMMARY:Knitting Group with Helen
DESCRIPTION:
URL:https://visionbermuda.bm/event/knitting-group-with-helen-24/
END:VEVENT
END:VCALENDAR