BEGIN:VCALENDAR
VERSION:2.0
PRODID:-//Vision Bermuda - ECPv6.15.18//NONSGML v1.0//EN
CALSCALE:GREGORIAN
METHOD:PUBLISH
X-WR-CALNAME:Vision Bermuda
X-ORIGINAL-URL:https://visionbermuda.bm
X-WR-CALDESC:Events for Vision Bermuda
REFRESH-INTERVAL;VALUE=DURATION:PT1H
X-Robots-Tag:noindex
X-PUBLISHED-TTL:PT1H
BEGIN:VTIMEZONE
TZID:UTC
BEGIN:STANDARD
TZOFFSETFROM:+0000
TZOFFSETTO:+0000
TZNAME:UTC
DTSTART:20250101T000000
END:STANDARD
END:VTIMEZONE
BEGIN:VEVENT
DTSTART;TZID=UTC:20260513T100000
DTEND;TZID=UTC:20260513T110000
DTSTAMP:20260420T084002
CREATED:20260406T152608Z
LAST-MODIFIED:20260406T152608Z
UID:5608-1778666400-1778670000@visionbermuda.bm
SUMMARY:Therapeutic Muscle & Manipulation with Paul Lambert
DESCRIPTION:
URL:https://visionbermuda.bm/event/therapeutic-muscle-manipulation-with-paul-lambert-50/
END:VEVENT
BEGIN:VEVENT
DTSTART;TZID=UTC:20260513T110000
DTEND;TZID=UTC:20260513T120000
DTSTAMP:20260420T084002
CREATED:20260406T152857Z
LAST-MODIFIED:20260406T152857Z
UID:5616-1778670000-1778673600@visionbermuda.bm
SUMMARY:Social Group
DESCRIPTION:
URL:https://visionbermuda.bm/event/social-group-165/
END:VEVENT
BEGIN:VEVENT
DTSTART;TZID=UTC:20260513T171500
DTEND;TZID=UTC:20260513T174500
DTSTAMP:20260420T084002
CREATED:20260406T160524Z
LAST-MODIFIED:20260406T160524Z
UID:5664-1778692500-1778694300@visionbermuda.bm
SUMMARY:Vision Talk – Power 95
DESCRIPTION:
URL:https://visionbermuda.bm/event/vision-talk-power-95-20/
END:VEVENT
END:VCALENDAR