BEGIN:VCALENDAR
VERSION:2.0
PRODID:-//Vision Bermuda - ECPv6.15.18//NONSGML v1.0//EN
CALSCALE:GREGORIAN
METHOD:PUBLISH
X-ORIGINAL-URL:https://visionbermuda.bm
X-WR-CALDESC:Events for Vision Bermuda
REFRESH-INTERVAL;VALUE=DURATION:PT1H
X-Robots-Tag:noindex
X-PUBLISHED-TTL:PT1H
BEGIN:VTIMEZONE
TZID:UTC
BEGIN:STANDARD
TZOFFSETFROM:+0000
TZOFFSETTO:+0000
TZNAME:UTC
DTSTART:20250101T000000
END:STANDARD
END:VTIMEZONE
BEGIN:VEVENT
DTSTART;TZID=UTC:20260520T100000
DTEND;TZID=UTC:20260520T110000
DTSTAMP:20260420T084145
CREATED:20260406T152626Z
LAST-MODIFIED:20260406T152626Z
UID:5610-1779271200-1779274800@visionbermuda.bm
SUMMARY:Therapeutic Muscle & Manipulation with Paul Lambert
DESCRIPTION:
URL:https://visionbermuda.bm/event/therapeutic-muscle-manipulation-with-paul-lambert-51/
END:VEVENT
BEGIN:VEVENT
DTSTART;TZID=UTC:20260520T110000
DTEND;TZID=UTC:20260520T120000
DTSTAMP:20260420T084145
CREATED:20260406T152916Z
LAST-MODIFIED:20260406T152916Z
UID:5618-1779274800-1779278400@visionbermuda.bm
SUMMARY:Social Group
DESCRIPTION:
URL:https://visionbermuda.bm/event/social-group-166/
END:VEVENT
BEGIN:VEVENT
DTSTART;TZID=UTC:20260520T133000
DTEND;TZID=UTC:20260520T153000
DTSTAMP:20260420T084145
CREATED:20260406T163407Z
LAST-MODIFIED:20260407T180741Z
UID:5675-1779283800-1779291000@visionbermuda.bm
SUMMARY:Let’s Cook (Contact us to be added to the Waitlist!)
DESCRIPTION:
URL:https://visionbermuda.bm/event/ets-cook-contact-us-to-be-added-to-the-waitlist-2/
END:VEVENT
END:VCALENDAR